{"text_format":"3","workbook":"xlsx","n_sheets":1,"sheets":["стр.1_3"],"not_rendered":{"external_links":5,"defined_names":1},"read":"whole","date_system":"1900"}

{"sheet":"стр.1_3","index":0,"n_rows":92,"n_cols":113,"rows_kept":92,"merged":[[4,0,4,107],[5,0,5,107],[6,0,6,107],[7,0,7,107],[9,32,9,86],[10,9,10,65],[11,9,11,65],[12,42,12,49],[12,50,12,51],[12,52,12,59],[14,0,15,8],[14,9,15,59],[14,60,15,70],[14,71,14,90],[14,91,15,107],[15,71,15,80],[15,81,15,90],[16,0,16,8],[16,10,16,58],[16,60,16,70],[16,71,16,80],[16,81,16,90],[16,91,16,107],[17,0,17,8],[17,10,17,58],[17,60,17,70],[17,71,17,80],[17,81,17,90],[17,91,17,107],[18,0,18,8],[18,10,18,58],[18,60,18,70],[18,71,18,80],[18,81,18,90],[18,91,18,107],[19,0,19,8],[19,10,19,58],[19,60,19,70],[19,71,19,80],[19,81,19,90],[19,91,20,107],[20,0,20,8],[20,10,20,58],[20,60,20,70],[20,71,20,80],[20,81,20,90],[21,0,21,8],[21,10,21,58],[21,60,21,70],[21,71,21,80],[21,81,21,90],[22,0,22,8],[22,10,22,58],[22,60,22,70],[22,71,22,80],[22,81,22,90],[22,91,22,107],[23,0,23,8],[23,10,23,58],[23,60,23,70],[23,71,23,80],[23,81,23,90],[23,91,23,107],[24,0,24,8],[24,10,24,58],[24,60,24,70],[24,71,24,80],[24,81,24,90],[24,91,24,107],[25,0,25,8],[25,10,25,58],[25,60,25,70],[25,71,25,80],[25,81,25,90],[25,91,25,107],[26,0,26,8],[26,10,26,58],[26,60,26,70],[26,71,26,80],[26,81,26,90],[26,91,26,107],[27,0,27,8],[27,10,27,58],[27,60,27,70],[27,71,27,80],[27,81,27,90],[27,91,27,107],[28,0,28,8],[28,10,28,58],[28,60,28,70],[28,71,28,80],[28,81,28,90],[28,91,28,107],[29,0,29,8],[29,10,29,58],[29,60,29,70],[29,71,29,80],[29,81,29,90],[29,91,29,107],[30,9,30,59],[30,60,30,70],[30,81,30,90],[30,91,30,107],[31,9,31,59],[31,60,31,70],[31,81,31,90],[31,91,31,107],[32,9,32,59],[32,60,32,70],[32,81,32,90],[32,91,32,107],[33,9,33,59],[33,60,33,70],[33,81,33,90],[33,91,33,107],[34,9,34,59],[34,60,34,70],[34,71,34,80],[34,81,34,90],[34,91,34,107],[35,9,35,59],[35,60,35,70],[35,81,35,90],[36,9,36,59],[36,60,36,70],[36,81,36,90],[37,9,37,59],[37,60,37,70],[37,81,37,90],[38,9,38,59],[38,60,38,70],[38,81,38,90],[39,9,39,59],[39,60,39,70],[39,81,39,90],[40,9,40,59],[40,60,40,70],[40,81,40,90],[40,91,40,107],[41,0,41,8],[41,10,41,58],[41,60,41,70],[41,71,41,80],[41,81,41,90],[41,91,41,107],[42,0,42,8],[42,10,42,58],[42,60,42,70],[42,71,42,80],[42,81,42,90],[42,91,42,107],[43,0,43,8],[43,10,43,58],[43,60,43,70],[43,71,43,80],[43,81,43,90],[43,91,43,107],[44,0,44,8],[44,10,44,58],[44,60,44,70],[44,71,44,80],[44,81,44,90],[44,91,44,107],[45,0,45,8],[45,10,45,58],[45,60,45,70],[45,71,45,80],[45,81,45,90],[45,91,45,107],[46,0,46,8],[46,10,46,58],[46,60,46,70],[46,71,46,80],[46,81,46,90],[46,91,46,107],[47,0,47,8],[47,10,47,58],[47,60,47,70],[47,71,47,80],[47,81,47,90],[47,91,47,107],[48,0,48,8],[48,10,48,58],[48,60,48,70],[48,71,48,80],[48,81,48,90],[48,91,48,107],[49,0,49,8],[49,10,49,58],[49,60,49,70],[49,71,49,80],[49,81,49,90],[49,91,49,107],[50,0,50,8],[50,10,50,58],[50,60,50,70],[50,71,50,80],[50,81,50,90],[50,91,50,107],[51,0,51,8],[51,10,51,58],[51,60,51,70],[51,71,51,80],[51,81,51,90],[51,91,51,107],[52,0,52,8],[52,10,52,58],[52,60,52,70],[52,71,52,80],[52,81,52,90],[52,91,52,107],[53,0,53,8],[53,10,53,58],[53,60,53,70],[53,71,53,80],[53,81,53,90],[53,91,53,107],[54,0,54,8],[54,10,54,58],[54,60,54,70],[54,71,54,80],[54,81,54,90],[54,91,54,107],[55,0,55,8],[55,10,55,58],[55,60,55,70],[55,71,55,80],[55,81,55,90],[55,91,55,107],[56,0,56,8],[56,10,56,58],[56,60,56,70],[56,71,56,80],[56,81,56,90],[56,91,56,107],[57,0,57,8],[57,10,57,58],[57,60,57,70],[57,71,57,80],[57,81,57,90],[57,91,57,107],[58,0,58,8],[58,10,58,58],[58,60,58,70],[58,71,58,80],[58,81,58,90],[58,91,58,107],[59,0,59,8],[59,10,59,58],[59,60,59,70],[59,71,59,80],[59,81,59,90],[59,91,59,107],[60,0,60,8],[60,10,60,58],[60,60,60,70],[60,71,60,80],[60,81,60,90],[60,91,60,107],[61,0,61,8],[61,10,61,58],[61,60,61,70],[61,71,61,80],[61,81,61,90],[61,91,61,107],[62,0,62,8],[62,10,62,58],[62,60,62,70],[62,71,62,80],[62,81,62,90],[62,91,62,107],[63,0,63,8],[63,10,63,58],[63,60,63,70],[63,71,63,80],[63,81,63,90],[63,91,63,107],[64,0,64,8],[64,10,64,58],[64,60,64,70],[64,71,64,80],[64,81,64,90],[64,91,64,107],[65,0,65,8],[65,10,65,58],[65,60,65,70],[65,71,65,80],[65,81,65,90],[65,91,65,107],[66,0,66,8],[66,10,66,58],[66,60,66,70],[66,71,66,80],[66,81,66,90],[66,91,66,107],[67,0,67,8],[67,10,67,58],[67,60,67,70],[67,71,67,80],[67,81,67,90],[67,91,67,107],[68,0,68,8],[68,10,68,58],[68,60,68,70],[68,71,68,80],[68,81,68,90],[68,91,68,107],[69,0,69,8],[69,10,69,58],[69,60,69,70],[69,71,69,80],[69,81,69,90],[69,91,69,107],[70,10,70,59],[70,60,70,70],[70,73,70,80],[70,81,70,90],[71,0,71,8],[71,10,71,58],[71,60,71,70],[71,71,71,80],[71,81,71,90],[71,91,71,107],[72,0,72,8],[72,10,72,58],[72,60,72,70],[72,71,72,80],[72,81,72,90],[72,91,72,107],[73,0,73,8],[73,10,73,58],[73,60,73,70],[73,71,73,80],[73,81,73,90],[73,91,73,107],[74,0,74,8],[74,10,74,58],[74,60,74,70],[74,71,74,80],[74,81,74,90],[74,91,74,107],[75,0,75,8],[75,10,75,58],[75,60,75,70],[75,71,75,80],[75,81,75,90],[75,91,75,107],[76,0,76,8],[76,10,76,58],[76,60,76,70],[76,71,76,80],[76,81,76,90],[76,91,76,107],[77,10,77,58],[77,60,77,70],[77,74,77,80],[77,81,77,90],[78,0,78,8],[78,10,78,58],[78,60,78,70],[78,71,78,80],[78,81,78,90],[78,91,78,107],[79,0,79,8],[79,10,79,58],[79,60,79,70],[79,71,79,80],[79,81,79,90],[79,91,79,107],[80,0,80,8],[80,10,80,58],[80,60,80,70],[80,71,80,80],[80,81,80,90],[80,91,80,107],[81,0,81,8],[81,10,81,58],[81,60,81,70],[81,71,81,80],[81,81,81,90],[81,91,81,107],[85,0,85,67],[85,94,85,105],[87,0,87,107],[88,0,88,107],[89,0,89,107],[90,0,90,107],[91,0,91,107]]}
[{"$nulls":92},"Приложение 2"]
[{"$nulls":92},"к приказу Федеральной службы по тарифам"]
[{"$nulls":92},"от 24 октября 2014 г. № 1831-э"]
[]
["Форма раскрытия информации о структуре и объемах затрат"]
["на оказание услуг по передаче электрической энергии сетевыми"]
["организациями, регулирование деятельности которых осуществляется"]
["методом долгосрочной индексации необходимой валовой выручки"]
[]
[null,null,"Наименование организации:",{"$nulls":29},"ООО \"Нижегородская электросетевая компания\""]
[null,null,"ИНН:",{"$nulls":6},"5256133344"]
[null,null,"КПП:",{"$nulls":6},"525601001"]
[null,null,"Долгосрочный период регулирования:",{"$nulls":39},"2024",{"$nulls":7},"-",null,"2028",{"$nulls":7}," гг."]
[]
["№ п/п",{"$nulls":8},"Показатель",{"$nulls":50},"Ед. изм.",{"$nulls":10},2025,{"$nulls":19},"Примечание ***"]
[{"$nulls":71},"план *",{"$nulls":9},"факт **"]
["I",{"$nulls":9},"Структура затрат",{"$nulls":49},"х",{"$nulls":10},"х",{"$nulls":9},"х",{"$nulls":9},"х"]
["1",{"$nulls":9},"Необходимая валовая выручка на содержание",{"$nulls":49},"тыс. руб.",{"$nulls":10},{"$f":"'[1]расчет расходов'!$I$105","v":{"v":238166.1203412972,"d":"238,166.12"}},{"$nulls":9},{"$f":"'[1]расчет расходов'!$K$105","v":{"v":447313.65185586,"d":"447,313.65"}},{"$nulls":9},"РСТ НО в плане базового года ДПР (2024 г.) учтены затраты на ТО и ППР сетей не в полном объеме от заявленого",{"$nulls":20},{"$f":"CD18-BT18","v":{"v":209147.5315145628,"d":"209,147.53"}}]
["1.1",{"$nulls":9},"Подконтрольные расходы, всего",{"$nulls":49},"тыс. руб.",{"$nulls":10},{"$f":"'[1]расчет расходов'!$I$46","v":{"v":196607.43705593658,"d":"196,607.44"}},{"$nulls":9},{"$f":"'[1]расчет расходов'!$K$46","v":{"v":326650.44548,"d":"326,650.45"}},{"$nulls":9},"РСТ НО в плане базового года ДПР (2024 г.) учтены затраты на ТО и ППР сетей не в полном объеме от заявленого",{"$nulls":20},{"$f":"CD19-BT19","v":{"v":130043.00842406342,"d":"130,043.01"}}]
["1.1.1",{"$nulls":9},"Материальные расходы, всего",{"$nulls":49},"тыс. руб.",{"$nulls":10},{"$f":"'[1]расчет расходов'!$I$21","v":{"v":34759.6068791565,"d":"34,759.61"}},{"$nulls":9},{"$f":"'[1]расчет расходов'!$K$21","v":{"v":46164.42568,"d":"46,164.43"}},{"$nulls":9},"Рост расходов на ремонт хоз. способом (рост цен на материалы и оборудование)",{"$nulls":20},{"v":11404.818800843503,"d":"11,404.82"}]
["1.1.1.1",{"$nulls":9},"в том числе на сырье, материалы, запасные части, инструмент, топливо",{"$nulls":49},"тыс. руб.",{"$nulls":10},{"$f":"'[1]расчет расходов'!$I$22","v":{"v":23090.7077092626,"d":"23,090.71"}},{"$nulls":9},{"$f":"'[1]расчет расходов'!$K$22","v":{"v":40753.47149,"d":"40,753.47"}},{"$nulls":30},{"v":17662.763780737405,"d":"17,662.76"}]
["1.1.1.2",{"$nulls":9},"на ремонт",{"$nulls":49},"тыс. руб.",{"$nulls":10},{"$f":"BT21","v":{"v":23090.7077092626,"d":"23,090.71"}},{"$nulls":9},{"$f":"CD21","v":{"v":40753.47149,"d":"40,753.47"}},{"$nulls":30},{"v":17662.763780737405,"d":"17,662.76"}]
["1.1.1.3",{"$nulls":9},"в том числе на работы и услуги производственного характера (в том числе услуги сторонних организаций по содержанию сетей и распределительных устройств)",{"$nulls":49},"тыс. руб.",{"$nulls":10},{"$f":"'[1]расчет расходов'!$I$23","v":{"v":11668.8991698939,"d":"11,668.90"}},{"$nulls":9},{"$f":"'[1]расчет расходов'!$K$23","v":{"v":5410.95419,"d":"5,410.95"}},{"$nulls":30},{"v":-6257.9449798939,"d":"-6,257.94"}]
["1.1.1.3.1",{"$nulls":9},"в том числе на ремонт",{"$nulls":49},"тыс. руб.",{"$nulls":20},{"v":0,"d":"0.00"},{"$nulls":30},{"v":0,"d":"0.00"}]
["1.1.2",{"$nulls":9},"Фонд оплаты труда",{"$nulls":49},"тыс. руб.",{"$nulls":10},{"$f":"'[1]расчет расходов'!$I$24","v":{"v":88837.19121685234,"d":"88,837.19"}},{"$nulls":9},{"$f":"'[1]расчет расходов'!$K$24","v":{"v":119224.49920000002,"d":"119,224.50"}},{"$nulls":9},"Фактическая  индексация зар платы соответствует рыночной ситуации в регионе. Перераспределение доли ФОТ 26 счета между видами деятельности по факту 2025 г.",{"$nulls":20},{"v":30387.30798314768,"d":"30,387.31"}]
["1.1.2.1",{"$nulls":9},"в том числе на ремонт",{"$nulls":49},"тыс. руб.",{"$nulls":51},{"v":0,"d":"0.00"}]
["1.1.3",{"$nulls":9},"Прочие подконтрольные расходы (с расшифровкой)",{"$nulls":49},"тыс. руб.",{"$nulls":10},{"$f":"'[1]расчет расходов'!$I$25","v":{"v":72610.99900118772,"d":"72,611.00"}},{"$nulls":9},{"$f":"'[1]расчет расходов'!$K$25","v":{"v":159170.10842999996,"d":"159,170.11"}},{"$nulls":9},"рост затрат по факту 2025 г. связан с заключением договора страхования имущества, уборки,дератизация и проч.",{"$nulls":20},{"v":86559.10942881224,"d":"86,559.11"}]
["1.1.3.1",{"$nulls":9},"в том числе прибыль на социальное развитие (включая социальные выплаты)",{"$nulls":49},"тыс. руб.",{"$nulls":20},{"$f":"'[4]расчет расходов'!$K$43","v":{"v":1253.0302100000001,"d":"1,253.03"}},{"$nulls":9}," в плане базового года ДПР (2024 г.) затраты не были учтены РСТ в связи с отсутствием  отраслевого тарифного соглашения",{"$nulls":20},{"v":1253.0302100000001,"d":"1,253.03"}]
["1.1.3.2",{"$nulls":9},"в том числе транспортные услуги",{"$nulls":49},"тыс. руб.",{"$nulls":10},{"$f":"'[1]расчет расходов'!$I$32","v":{"v":3204.8957160000004,"d":"3,204.90"}},{"$nulls":9},{"$f":"'[1]расчет расходов'!$K$32","v":{"v":8163.272280000001,"d":"8,163.27"}},{"$nulls":30},{"v":4958.376564,"d":"4,958.38"}]
["1.1.3.3",{"$nulls":9},"в том числе прочие расходы (с расшифровкой)****",{"$nulls":49},"тыс. руб.",{"$nulls":10},{"$f":"BZ31+BZ32+BZ33+BZ34+BZ35+BZ36+BZ37+BZ38+BZ39+BZ40+BZ41","v":{"v":69406.10328518772,"d":"69,406.10"}},{"$nulls":9},{"$f":"CD31+CD32+CD33+CD34+CD35+CD36+CD37+CD38+CD39","v":{"v":144873.52672,"d":"144,873.53"}},{"$nulls":30},{"v":75467.42343481227,"d":"75,467.42"}]
[{"$nulls":9},{"$f":"'[2]Расчёт расходов'!$E$30","v":"Ремонт основных фондов"},{"$nulls":50},"тыс. руб.",{"$nulls":16},{"$f":"'[1]расчет расходов'!$I$26","v":{"v":61712.1457670883,"d":"61,712.15"}},{"$nulls":3},{"$f":"'[1]расчет расходов'!$K$26","v":{"v":32029.581060000004,"d":"32,029.58"}},{"$nulls":9},"частичный переход с выполнения кап. ремонтов подрядным способом на кап. ремонты хоз. способом (силами ЭСЦ ООО \"НЭСК\")"]
[{"$nulls":9},{"$f":"DE33","v":"Услуги связи"},{"$nulls":50},"тыс. руб.",{"$nulls":16},{"$f":"'[1]расчет расходов'!$I$28","v":{"v":380.7282215063912,"d":"380.73"}},{"$nulls":3},{"$f":"'[1]расчет расходов'!$K$28","v":{"v":580.0649500000001,"d":"580.06"}},{"$nulls":9},"рост стоиомости услуг и объема услуг в связи с введением системы ИСУ АСКУЭ (услуги интернета и моб связи)",{"$nulls":16},"Работы и услуги непроизводственного характера"]
[{"$nulls":9},{"$f":"DE34","v":"Расходы на услуги вневедомственной охраны и коммунального хозяйства"},{"$nulls":50},"тыс. руб.",{"$nulls":16},{"$f":"'[1]расчет расходов'!$I$29","v":{"v":2284.42302,"d":"2,284.42"}},{"$nulls":3},{"$f":"'[1]расчет расходов'!$K$29","v":{"v":2792.2421600000002,"d":"2,792.24"}},{"$nulls":9},"Рост стоимости и объема услуг охраны ПС \"Дизель\" в связи с ужесточением антитеррористических мероприятий в регионе",{"$nulls":16},"Услуги связи"]
[{"$nulls":9},{"$f":"DE35","v":"Расходы на юридические услуги и информационные услуги"},{"$nulls":50},"тыс. руб.",{"$nulls":16},{"$f":"'[1]расчет расходов'!$I$30","v":{"v":992.95416,"d":"992.95"}},{"$nulls":3},{"$f":"'[1]расчет расходов'!$K$30","v":{"v":107612.08426999998,"d":"107,612.08"}},{"$nulls":26},"Расходы на услуги вневедомственной охраны и коммунального хозяйства"]
[{"$nulls":9},{"$f":"DE36","v":"Расходы на аудиторские и консультационные услуги"},{"$nulls":50},"тыс. руб.",{"$nulls":47},"Расходы на юридические услуги и информационные услуги"]
[{"$nulls":9},"Прочие подконтрольные расходы",{"$nulls":50},"тыс. руб.",{"$nulls":16},{"$f":"'[1]расчет расходов'!$I$38","v":{"v":1716.569085132,"d":"1,716.57"}},{"$nulls":3},{"$f":"'[1]расчет расходов'!$K$38","v":{"v":0,"d":"0.00"}},{"$nulls":26},"Расходы на аудиторские и консультационные услуги"]
[{"$nulls":9},"Прочие услуги сторонних организаций ",{"$nulls":50},"тыс. руб.",{"$nulls":16},{"$f":"'[1]расчет расходов'!$I$33","v":{"v":1300.4799326184602,"d":"1,300.48"}},{"$nulls":3},{"$f":"'[1]расчет расходов'!$K$33","v":{"v":1610.1112300000002,"d":"1,610.11"}},{"$nulls":26},"Транспортные услуги"]
[{"$nulls":9},"Расходы на командировки и представительские",{"$nulls":50},"тыс. руб.",{"$nulls":16},{"$f":"'[1]расчет расходов'!$I$34","v":{"v":945.6248474858978,"d":"945.62"}},{"$nulls":3},{"$f":"'[1]расчет расходов'!$K$34","v":{"v":171.94305,"d":"171.94"}},{"$nulls":26},"Прочие услуги сторонних организаций "]
[{"$nulls":9},"Расходы на подготовку кадров ",{"$nulls":50},"тыс. руб.",{"$nulls":16},{"$f":"'[1]расчет расходов'!$I$35","v":{"v":73.17825135667202,"d":"73.18"}},{"$nulls":3},{"$f":"'[1]расчет расходов'!$K$35","v":{"v":77.5,"d":"77.50"}},{"$nulls":26},"Расходы на командировки и представительские"]
[{"$nulls":9},"Расходы на обеспечение нормальных условий труда и мер по технике безопасности",{"$nulls":50},"тыс. руб.",{"$nulls":47},"Расходы на подготовку кадров "]
[{"$nulls":9},"Расходы на страхование",{"$nulls":50},"тыс. руб.",{"$nulls":16},{"$f":"'[1]расчет расходов'!$I$37","v":{"v":0,"d":"0.00"}},{"$nulls":3},{"$f":"'[1]расчет расходов'!$K$37","v":{"v":6133.30943,"d":"6,133.31"}},{"$nulls":9}," в плане базового года ДПР (2024 г.) затраты не были учтены РСТ. Договор заключен в связи с необходимостью страхования критически важных объектов инфраструктуры в условиях проведения СВО",{"$nulls":16},"Расходы на обеспечение нормальных услуовий труда и мер по технике безопасности"]
["1.1.4",{"$nulls":9},"Расходы на обслуживание операционных заемных средств в составе подконтрольных расходов",{"$nulls":49},"тыс. руб.",{"$nulls":47},"Расходы на страхование",{"$nulls":3},{"v":0,"d":"0.00"}]
["1.1.5",{"$nulls":9},"Расходы из прибыли в составе подконтрольных расходов",{"$nulls":49},"тыс. руб.",{"$nulls":51},{"v":0,"d":"0.00"}]
["1.2",{"$nulls":9},"Неподконтрольные расходы, включенные в НВВ, всего",{"$nulls":49},"тыс. руб.",{"$nulls":10},{"$f":"'[1]расчет расходов'!$I$74","v":{"v":96914.63251834016,"d":"96,914.63"}},{"$nulls":9},{"$f":"'[1]расчет расходов'!$K$74","v":{"v":120663.20637586001,"d":"120,663.21"}},{"$nulls":9},"Отклонения по аренде и соц. отчислениям - см. ниже",{"$nulls":20},{"v":23748.57385751985,"d":"23,748.57"}]
["1.2.1",{"$nulls":9},"Оплата услуг ОАО \"ФСК ЕЭС\"",{"$nulls":49},"тыс. руб.",{"$nulls":10},{"v":0,"d":"0.00"},{"$nulls":9},{"v":0,"d":"0.00"},{"$nulls":30},{"v":0,"d":"0.00"}]
["1.2.2",{"$nulls":9},"Расходы на оплату технологического присоединения к сетям смежной сетевой организации",{"$nulls":49},"тыс. руб.",{"$nulls":10},{"v":0,"d":"0.00"},{"$nulls":9},{"v":0,"d":"0.00"},{"$nulls":30},{"v":0,"d":"0.00"}]
["1.2.3",{"$nulls":9},"Плата за аренду имущества",{"$nulls":49},"тыс. руб.",{"$nulls":10},{"$f":"'[1]расчет расходов'!$I$57","v":{"v":5555.33516,"d":"5,555.34"}},{"$nulls":9},{"$f":"'[1]расчет расходов'!$K$58","v":{"v":23224.305364300002,"d":"23,224.31"}},{"$nulls":9},"По факту 2025 г. стоимость аренды оплачена арендодателям по рыночной цене, а РСТ учтена по плану 2025 г.- в размере возмещения затрат на амортизацию и налоги",{"$nulls":20},{"v":17668.970204300003,"d":"17,668.97"}]
["1.2.4",{"$nulls":9},"отчисления на социальные нужды",{"$nulls":49},"тыс. руб.",{"$nulls":10},{"$f":"'[1]расчет расходов'!$I$66","v":{"v":17225.53137694767,"d":"17,225.53"}},{"$nulls":9},{"$f":"'[1]расчет расходов'!$K$66","v":{"v":26384.381672960004,"d":"26,384.38"}},{"$nulls":9},"Рост ФОТ - см п. 1.1.2.",{"$nulls":20},{"v":9158.850296012333,"d":"9,158.85"}]
["1.2.5",{"$nulls":9},"расходы на возврат и обслуживание долгосрочных заемных средств, направляемых на финансирование капитальных вложений",{"$nulls":49},"тыс. руб.",{"$nulls":30},"Ставка кредитования по факту ниже планового расчета",{"$nulls":20},{"v":0,"d":"0.00"}]
["1.2.6",{"$nulls":9},"амортизация",{"$nulls":49},"тыс. руб.",{"$nulls":10},{"$f":"'[1]расчет расходов'!$I$70","v":{"v":37400.395154532496,"d":"37,400.40"}},{"$nulls":9},{"$f":"'[1]расчет расходов'!$K$70","v":{"v":66965.63753,"d":"66,965.64"}},{"$nulls":9},"Ввод объектов ОС от уровня 2023 г. по договорам тех. прис. и инвест. программе.\nРасчет регулятора по максимальным срокам полезного использования",{"$nulls":20},{"v":29565.24237546751,"d":"29,565.24"}]
["1.2.7",{"$nulls":9},"налог  на величину капитальных вложений",{"$nulls":49},"тыс. руб.",{"$nulls":10},{"$f":"'[1]расчет расходов'!$I$69","v":{"v":3750,"d":"3,750.00"}},{"$nulls":40},{"v":-3750,"d":"-3,750.00"}]
["1.2.8",{"$nulls":9},"налог на прибыль",{"$nulls":49},"тыс. руб.",{"$nulls":10},{"$f":"'[1]расчет расходов'!$I$68","v":{"v":532,"d":"532.00"}},{"$nulls":40},{"v":-532,"d":"-532.00"}]
["1.2.9",{"$nulls":9},"прочие налоги",{"$nulls":49},"тыс. руб.",{"$nulls":10},{"$f":"'[1]расчет расходов'!$I$61","v":{"v":361.469,"d":"361.47"}},{"$nulls":9},{"$f":"'[1]расчет расходов'!$K$61","v":{"v":301.118,"d":"301.12"}},{"$nulls":30},{"v":-60.351,"d":"-60.35"}]
["1.2.10",{"$nulls":9},"Расходы сетевой организации, связанные с осуществлением технологического присоединения к электрическим сетям, не включенные в плату за технологическое присоединение",{"$nulls":49},"тыс. руб.",{"$nulls":10},{"v":0,"d":"0.00"},{"$nulls":9},{"v":0,"d":"0.00"},{"$nulls":30},{"v":0,"d":"0.00"}]
["1.2.10.1",{"$nulls":9},"Справочно: \"Количество льготных технологических присоединений\"",{"$nulls":49},"ед.",{"$nulls":10},{"v":0,"d":"0.00"},{"$nulls":9},{"v":0,"d":"0.00"},{"$nulls":30},{"v":0,"d":"0.00"}]
["1.2.11",{"$nulls":9},"Средства, подлежащие дополнительному учету по результатам вступивших в законную силу решений суда, решений ФСТ России, принятых по итогам рассмотрения разногласий или досудебного урегулирования споров, решения ФСТ России об отмене решения регулирующего органа, принятого им с превышением полномочий (предписания)",{"$nulls":49},"тыс. руб.",{"$nulls":10},{"v":0,"d":"0.00"},{"$nulls":9},{"v":0,"d":"0.00"},{"$nulls":30},{"v":0,"d":"0.00"}]
["1.2.12",{"$nulls":9},"прочие неподконтрольные расходы (с расшифровкой)",{"$nulls":49},"тыс. руб.",{"$nulls":10},{"$f":"'[1]расчет расходов'!$I$67","v":{"v":0,"d":"0.00"}},{"$nulls":9},{"$f":"'[1]расчет расходов'!$K$67","v":{"v":0,"d":"0.00"}},{"$nulls":9},"рост расходов на комунальные услуги от уровня, утвержденного регулятором",{"$nulls":20},{"v":0,"d":"0.00"}]
["1.3",{"$nulls":9},"недополученный по независящим причинам доход (+)/избыток средств, полученный в предыдущем периоде регулирования (-)",{"$nulls":49},"тыс. руб.",{"$nulls":10},{"$f":"'[4]расчет расходов'!$I$78","v":{"v":37762.088300543925,"d":"37,762.09"}},{"$nulls":9},{"v":0,"d":"0.00"},{"$nulls":30},{"v":-37762.088300543925,"d":"-37,762.09"}]
["II",{"$nulls":9},"Справочно: расходы на ремонт, всего (пункт 1.1.1.2 + пункт 1.1.2.1 + пункт 1.1.3.1)",{"$nulls":49},"тыс. руб.",{"$nulls":10},{"$f":"BT22+BT26+BT28","v":{"v":23090.7077092626,"d":"23,090.71"}},{"$nulls":9},{"$f":"CD22+CD24+CD26","v":{"v":40753.47149,"d":"40,753.47"}},{"$nulls":9},"частичный переход с выполнения кап. ремонтов подрядным способом на кап. ремонты хоз. способом (силами ЭСЦ ООО \"НЭСК\")",{"$nulls":20},{"v":17662.763780737405,"d":"17,662.76"}]
["III",{"$nulls":9},"Необходимая валовая выручка на оплату технологического расхода (потерь) электроэнергии",{"$nulls":49},"тыс. руб.",{"$nulls":10},{"$f":"(BT61/2*'[5]П1.25'!$I$13+'[5]П1.25'!$J$13*BT61/2)/1000","v":{"v":186557.00231969767,"d":"186,557.00"}},{"$nulls":9},{"$f":"115329","v":{"v":115329,"d":"115,329.00"}},{"$nulls":9},"Экономия связана с фактором снижения объема потерь  в связи с паданием объема реализации от утвержденного баланса 2025 г.",{"$nulls":20},{"v":-71228.00231969767,"d":"-71,228.00"}]
["1.1",{"$nulls":9},"Справочно:\nОбъем технологических потерь",{"$nulls":49},"МВт∙ч",{"$nulls":10},{"$f":"'[5]П1.4'!$P$18*1000","v":{"v":36478.403656,"d":"36,478.40"}},{"$nulls":9},{"$f":"'[1]П1.4'!$P$18*1000","v":{"v":26120.967221562834,"d":"26,120.97"}},{"$nulls":9},"снижение размера потерь связано с фактором снижения объема потерь  в связи с паданием объема реализации от утвержденного баланса 2025 г.",{"$nulls":20},{"v":-10357.436434437168,"d":"-10,357.44"}]
["1.2",{"$nulls":9},"Справочно:\nЦена покупки электрической энергии сетевой организацией в целях компенсации технологического расхода электрической энергии",{"$nulls":49},"тыс. руб./МВт*ч",{"$nulls":10},{"$f":"BT60/BT61*1000","v":{"v":5114.176707922157,"d":"5,114.18"}},{"$nulls":9},{"$f":"CD60/CD61*1000","v":{"v":4415.188726426486,"d":"4,415.19"}},{"$nulls":9},"снижение рыночных цен на Ээ на оптовом рынке Ээ и мощности по факту 2026",{"$nulls":20},{"v":-698.9879814956712,"d":"-698.99"}]
["IV",{"$nulls":9},"Натуральные (количественные) показатели, используемые при определении структуры и объемов затрат на оказание услуг по передаче электрической энергии сетевыми организациями",{"$nulls":49},"х",{"$nulls":10},"х",{"$nulls":9},"х",{"$nulls":30},{"$error":"#VALUE!"}]
["1",{"$nulls":9},"общее количество точек подключения на конец года",{"$nulls":49},"шт.",{"$nulls":10},{"v":539,"d":"539.00"},{"$nulls":9},{"$f":"616","v":{"v":616,"d":"616.00"}},{"$nulls":9},"по факту 2025 -учтены опосредованные потребители",{"$nulls":20},{"v":77,"d":"77.00"}]
["2",{"$nulls":9},"Трансформаторная мощность подстанций, всего",{"$nulls":49},"МВа",{"$nulls":10},{"v":1249.43,"d":"1,249.43"},{"$nulls":9},{"$f":"'[4]Мощ, ВЛ, КЛ'!$H$7","v":{"v":1465.71,"d":"1,465.71"}},{"$nulls":30},{"v":216.27999999999997,"d":"216.28"}]
["2.1",{"$nulls":9},"в том числе трансформаторная мощность подстанций на уровне напряжения ВН",{"$nulls":49},"МВа",{"$nulls":10},{"v":560,"d":"560.00"},{"$nulls":9},{"$f":"'[3]Прилож1 МУ 421-э'!$CD$48:$CL$48","v":{"v":560,"d":"560.00"}},{"$nulls":30},{"v":0,"d":"0.00"}]
["2.2",{"$nulls":9},"в том числе трансформаторная мощность подстанций на уровне напряжения СН2",{"$nulls":49},"МВа",{"$nulls":10},{"$f":"BT65-BT66","v":{"v":689.4300000000001,"d":"689.43"}},{"$nulls":9},{"$f":"CD65-CD66","v":905.71},{"$nulls":30},{"v":216.27999999999997,"d":"216.28"}]
["3",{"$nulls":9},"Количество условных единиц по линиям электропередач, всего",{"$nulls":49},"у.е.",{"$nulls":10},{"$f":"'[1]Р.2.1'!$M$49","v":{"v":2411.5675,"d":"2,411.57"}},{"$nulls":9},{"$f":"'[1]Р.2.1'!$P$49","v":{"v":2411.5659000000005,"d":"2,411.57"}},{"$nulls":30},{"v":-1.5999999995983671E-3,"d":"-0.00"}]
["3.1",{"$nulls":9},"в том числе количество условных единиц по линиям электропередач на  уровне напряжения ВН",{"$nulls":49},"у.е.",{"$nulls":10},{"$f":"'[1]Р.2.1'!$M$50","v":{"v":0.048,"d":"0.05"}},{"$nulls":9},{"$f":"'[1]Р.2.1'!$P$50","v":{"v":0.046400000000000004,"d":"0.05"}},{"$nulls":30},{"v":-1.5999999999999973E-3,"d":"-0.00"}]
["3.2",{"$nulls":9},"в том числе количество условных единиц по линиям электропередач на  уровне напряжения СН2",{"$nulls":49},"у.е.",{"$nulls":10},{"$f":"'[1]Р.2.1'!$M$52","v":{"v":2408.9695,"d":"2,408.97"}},{"$nulls":9},{"$f":"'[1]Р.2.1'!$P$52","v":{"v":2408.9695,"d":"2,408.97"}},{"$nulls":30},{"v":0,"d":"0.00"}]
[{"$nulls":3},"3.3.",{"$nulls":6},"в том числе количество условных единиц по линиям электропередач на  уровне напряжения НН",{"$nulls":49},"у.е.",{"$nulls":12},{"$f":"'[1]Р.2.1'!$M$53","v":{"v":2.5500000000000003,"d":"2.55"}},{"$nulls":7},{"$f":"'[1]Р.2.1'!$P$53","v":{"v":2.5500000000000003,"d":"2.55"}},{"$nulls":30},{"$f":"#REF!-BT71","v":{"$error":"#REF!"}}]
["4",{"$nulls":9},"Количество условных единиц по подстанциям, всего",{"$nulls":49},"у.е.",{"$nulls":10},{"$f":"'[1]Р.2.2'!$M$69","v":{"v":4626.4,"d":"4,626.40"}},{"$nulls":9},{"$f":"'[1]Р.2.2'!$P$69","v":{"v":4646.3,"d":"4,646.30"}},{"$nulls":30},{"v":19.900000000000546,"d":"19.90"}]
["4.1",{"$nulls":9},"в том числе Количество условных единиц по подстанциям на уровне напряжения ВН",{"$nulls":49},"у.е.",{"$nulls":10},{"$f":"'[1]Р.2.2'!$M$70","v":{"v":469.6,"d":"469.60"}},{"$nulls":9},{"$f":"'[1]Р.2.2'!$P$70","v":{"v":469.6,"d":"469.60"}},{"$nulls":30},{"v":0,"d":"0.00"}]
["4.2",{"$nulls":9},"в том числе Количество условных единиц по подстанциям на уровне напряжения СН2",{"$nulls":49},"у.е.",{"$nulls":10},{"$f":"'[1]Р.2.2'!$M$72","v":{"v":4156.799999999999,"d":"4,156.80"}},{"$nulls":9},{"$f":"'[1]Р.2.2'!$P$72","v":{"v":4176.7,"d":"4,176.70"}},{"$nulls":30},{"v":19.900000000000546,"d":"19.90"}]
["5",{"$nulls":9},"Длина линий электропередач, всего",{"$nulls":49},"км",{"$nulls":10},{"$f":"'[1]Р.2.1'!$L$49","v":{"v":689.287,"d":"689.29"}},{"$nulls":9},{"$f":"'[1]Р.2.1'!$O$49","v":{"v":689.2860000000001,"d":"689.29"}},{"$nulls":30},{"v":-9.9999999997635314E-4,"d":"-0.00"}]
["5.1",{"$nulls":9},"в том числе длина линий электропередач на  уровне напряжения ВН",{"$nulls":49},"км",{"$nulls":10},{"$f":"'[1]Р.2.1'!$L$50","v":0.03},{"$nulls":9},{"$f":"'[1]Р.2.1'!$O$50","v":{"v":0.029,"d":"0.03"}},{"$nulls":30},{"v":-9.9999999999999742E-4,"d":"-0.00"}]
["5.2.",{"$nulls":9},"в том числе длина линий электропередач на уровне напряжения СН2",{"$nulls":49},"км",{"$nulls":10},{"$f":"'[1]Р.2.1'!$L$52","v":{"v":688.277,"d":"688.28"}},{"$nulls":9},{"$f":"'[1]Р.2.1'!$O$52","v":{"v":688.277,"d":"688.28"}},{"$nulls":30},{"v":0,"d":"0.00"}]
[{"$nulls":5},"5.3",{"$nulls":4},"в том числе длина линий электропередач на уровне напряжения НН",{"$nulls":49},"км",{"$nulls":13},{"$f":"'[1]Р.2.1'!$L$53","v":0.98},{"$nulls":6},{"$f":"'[1]Р.2.1'!$O$53","v":0.98},{"$nulls":30},{"$f":"#REF!-BT78","v":{"$error":"#REF!"}}]
["6",{"$nulls":9},"Доля кабельных линий электропередач",{"$nulls":49},"%",{"$nulls":10},{"$f":"BT77/BT75","v":{"v":0.9985347177590757,"d":"99.85%"}},{"$nulls":9},{"$f":"CD77/CD75","v":{"v":0.9985361664098792,"d":"99.85%"}},{"$nulls":30},{"v":1.448650803537177E-6,"d":"0.00"}]
["7",{"$nulls":9},"Ввод в эксплуатацию новых объектов электросетевого комплекса на конец года",{"$nulls":49},"тыс. руб.",{"$nulls":10},{"v":0,"d":"0.00"},{"$nulls":9},{"$f":"137739096.76/1000","v":{"v":137739.09676,"d":"137,739.10"}},{"$nulls":9},"Ввод ОС в рамках выполнения тех. присоединений и инвест программы ",{"$nulls":20},{"v":137739.09676,"d":"137,739.10"}]
["7.1",{"$nulls":9},"в том числе за счет платы за технологическое присоединение",{"$nulls":49},"тыс. руб.",{"$nulls":10},{"v":0,"d":"0.00"},{"$nulls":9},{"$f":"55492020.76/1000","v":{"v":55492.02076,"d":"55,492.02"}},{"$nulls":30},{"v":55492.02076,"d":"55,492.02"}]
["8",{"$nulls":9},"норматив технологического расхода (потерь) электрической энергии, установленный Минэнерго России *****",{"$nulls":49},"%",{"$nulls":10},{"$f":"'[4]Долгосрочные параметры'!$E$7","v":4.17},{"$nulls":9},{"$f":"'[4]П1.4'!$P$19","v":{"v":4.212597202494377,"d":"4.21"}},{"$nulls":9},"рост размера норматива потерь связано с отклонением структуры баланса эл. энергии в разбивке по уровням напряжения по факту 2025 г. от плана.",{"$nulls":20},{"v":0.042597202494377484,"d":"0.04"}]
[]
[]
[]
["Генеральный директор ООО \"НЭСК\" ",{"$nulls":93},"Д.А.Недоростков"]
[{"$nulls":6},"Примечание:"]
["_____*_В случае определения плановых значений показателей органами исполнительной власти в области государственного регулирования тарифов при установлении тарифов на услуги по передаче электрической энергии в столбце <план> указываются соответствующие значения. Плановые значения составляющих подконтрольных расходов раскрываются в отношении расходов, учтенных регулирующим органом на первый год долгосрочного периода регулирования."]
["_____**_Информация о фактических затратах на оказание регулируемых услуг заполняется на основании данных раздельного учета расходов по регулируемым видам деятельности."]
["_____***_При наличии отклонений фактических значений показателей от плановых значений более чем на 15 процентов в столбце <Примечание> указываются причины их возникновения."]
["_____****_В соответствии с пунктом 28 Основ ценообразования в области регулируемых цен (тарифов) в электроэнергетике, утвержденных постановлением Правительства Российской Федерации от 29.12.2011 № 1178."]
["_____*****_В соответствии с пунктом 4.2.14.8 Положения о Министерстве энергетики Российской Федерации, утвержденного постановлением Правительства Российской Федерации от 28.05.2008 № 400."]